BEGIN:VCALENDAR
VERSION:2.0
PRODID:-//Gooseneck Vineyards - ECPv6.15.20//NONSGML v1.0//EN
CALSCALE:GREGORIAN
METHOD:PUBLISH
X-WR-CALNAME:Gooseneck Vineyards
X-ORIGINAL-URL:https://www.gooseneckvineyards.com
X-WR-CALDESC:Events for Gooseneck Vineyards
REFRESH-INTERVAL;VALUE=DURATION:PT1H
X-Robots-Tag:noindex
X-PUBLISHED-TTL:PT1H
BEGIN:VTIMEZONE
TZID:America/New_York
BEGIN:DAYLIGHT
TZOFFSETFROM:-0500
TZOFFSETTO:-0400
TZNAME:EDT
DTSTART:20250309T070000
END:DAYLIGHT
BEGIN:STANDARD
TZOFFSETFROM:-0400
TZOFFSETTO:-0500
TZNAME:EST
DTSTART:20251102T060000
END:STANDARD
BEGIN:DAYLIGHT
TZOFFSETFROM:-0500
TZOFFSETTO:-0400
TZNAME:EDT
DTSTART:20260308T070000
END:DAYLIGHT
BEGIN:STANDARD
TZOFFSETFROM:-0400
TZOFFSETTO:-0500
TZNAME:EST
DTSTART:20261101T060000
END:STANDARD
BEGIN:DAYLIGHT
TZOFFSETFROM:-0500
TZOFFSETTO:-0400
TZNAME:EDT
DTSTART:20270314T070000
END:DAYLIGHT
BEGIN:STANDARD
TZOFFSETFROM:-0400
TZOFFSETTO:-0500
TZNAME:EST
DTSTART:20271107T060000
END:STANDARD
END:VTIMEZONE
BEGIN:VEVENT
DTSTART;TZID=America/New_York:20260206T160000
DTEND;TZID=America/New_York:20260206T200000
DTSTAMP:20260419T094105
CREATED:20260129T161223Z
LAST-MODIFIED:20260207T004230Z
UID:10001350-1770393600-1770408000@www.gooseneckvineyards.com
SUMMARY:Food Truck: LaCosta Tacos
DESCRIPTION:LaCosta Tacos \nNewport's only Lobster & Taco truck here with us all summer to celebrate #TacoTuesdays! Their upscale tacos pair perfectly with our famous Strawberry Prosecco "Margarita". \n@lacostanpt
URL:https://www.gooseneckvineyards.com/event/food-truck-lacosta-tacos-24/
END:VEVENT
BEGIN:VEVENT
DTSTART;TZID=America/New_York:20260206T170000
DTEND;TZID=America/New_York:20260206T200000
DTSTAMP:20260419T094105
CREATED:20260105T201236Z
LAST-MODIFIED:20260207T004231Z
UID:10001313-1770397200-1770408000@www.gooseneckvineyards.com
SUMMARY:Music: Stefan Couture
DESCRIPTION:Stefan Couture \nStefan Couture is a Rhode Island based singer/songwriter and modern acoustic performer. His songs are soulful\, honest and completely relatable. Stefan finds a way to get your attention and touch both your heart and mind with his live performances\, with original songs that chase the light from the darkness.  He weaves elements of pop\, folk\, jazz\, rock\, blues and jams seamlessly with his sweet and soulful voice.  \nThe vibe of his music captures the spirit of troubadours like Van Morrison\, Tom Petty and John Prine. Stefan finds a way to bring you in and listen with an open mind. His love for music and performing is contagious and will find a way to get you coming back for more. \nStefan Couture Music
URL:https://www.gooseneckvineyards.com/event/music-stefan-couture-14/
CATEGORIES:music,wine
ATTACH;FMTTYPE=image/jpeg:https://www.gooseneckvineyards.com/wp-content/uploads/2025/04/Guitar-2.jpg
END:VEVENT
END:VCALENDAR