BEGIN:VCALENDAR
VERSION:2.0
PRODID:-//Gooseneck Vineyards - ECPv6.15.20//NONSGML v1.0//EN
CALSCALE:GREGORIAN
METHOD:PUBLISH
X-WR-CALNAME:Gooseneck Vineyards
X-ORIGINAL-URL:https://www.gooseneckvineyards.com
X-WR-CALDESC:Events for Gooseneck Vineyards
REFRESH-INTERVAL;VALUE=DURATION:PT1H
X-Robots-Tag:noindex
X-PUBLISHED-TTL:PT1H
BEGIN:VTIMEZONE
TZID:America/New_York
BEGIN:DAYLIGHT
TZOFFSETFROM:-0500
TZOFFSETTO:-0400
TZNAME:EDT
DTSTART:20250309T070000
END:DAYLIGHT
BEGIN:STANDARD
TZOFFSETFROM:-0400
TZOFFSETTO:-0500
TZNAME:EST
DTSTART:20251102T060000
END:STANDARD
BEGIN:DAYLIGHT
TZOFFSETFROM:-0500
TZOFFSETTO:-0400
TZNAME:EDT
DTSTART:20260308T070000
END:DAYLIGHT
BEGIN:STANDARD
TZOFFSETFROM:-0400
TZOFFSETTO:-0500
TZNAME:EST
DTSTART:20261101T060000
END:STANDARD
BEGIN:DAYLIGHT
TZOFFSETFROM:-0500
TZOFFSETTO:-0400
TZNAME:EDT
DTSTART:20270314T070000
END:DAYLIGHT
BEGIN:STANDARD
TZOFFSETFROM:-0400
TZOFFSETTO:-0500
TZNAME:EST
DTSTART:20271107T060000
END:STANDARD
END:VTIMEZONE
BEGIN:VEVENT
DTSTART;TZID=America/New_York:20260516T120000
DTEND;TZID=America/New_York:20260516T200000
DTSTAMP:20260423T071649
CREATED:20260320T182822Z
LAST-MODIFIED:20260423T111233Z
UID:10001450-1778932800-1778961600@www.gooseneckvineyards.com
SUMMARY:Food Truck: Vetrano’s Wood Fired Pizza
DESCRIPTION:Vetrano’s Wood Fired Pizza  \nBeyond the New York-style crust known to South County\, Vetrano’s invites you to discover a wood-fired taste that transcends the ordinary. Handmade and crafted with locally sourced ingredients\, ignite your senses with an unforgettable experience! \n@vetranoswoodfired
URL:https://www.gooseneckvineyards.com/event/food-truck-vetranos-wood-fired-pizza-76/
CATEGORIES:food,wine
ATTACH;FMTTYPE=image/jpeg:https://www.gooseneckvineyards.com/wp-content/uploads/2025/05/Pizza.jpg
END:VEVENT
BEGIN:VEVENT
DTSTART;TZID=America/New_York:20260516T130000
DTEND;TZID=America/New_York:20260516T190000
DTSTAMP:20260423T071649
CREATED:20260407T222835Z
LAST-MODIFIED:20260423T111232Z
UID:10001595-1778936400-1778958000@www.gooseneckvineyards.com
SUMMARY:Food Truck: Tolia
DESCRIPTION:Tolia \nTolia is a food truck and restaurant in Rhode Island that specializes in Anatolian cuisine. The business\, created by a husband and wife team\, aims to share the flavors and culture of Turkey with the local community. Their food is described as being crafted with passion\, devotion\, and attention to detail\, reflecting the Turkish concept of "Merak" \n@Tolia.Restaurant
URL:https://www.gooseneckvineyards.com/event/food-truck-tolia/
CATEGORIES:food,wine
ATTACH;FMTTYPE=image/jpeg:https://www.gooseneckvineyards.com/wp-content/uploads/2025/07/Hummus.jpg
END:VEVENT
BEGIN:VEVENT
DTSTART;TZID=America/New_York:20260516T150000
DTEND;TZID=America/New_York:20260516T180000
DTSTAMP:20260423T071649
CREATED:20260406T231152Z
LAST-MODIFIED:20260423T111246Z
UID:10001560-1778943600-1778954400@www.gooseneckvineyards.com
SUMMARY:Music: Jacob Hunsinger
DESCRIPTION:
URL:https://www.gooseneckvineyards.com/event/music-jacob-hunsinger/
CATEGORIES:music,wine
ATTACH;FMTTYPE=image/jpeg:https://www.gooseneckvineyards.com/wp-content/uploads/2025/05/Guitar-4.jpg
END:VEVENT
END:VCALENDAR