BEGIN:VCALENDAR
VERSION:2.0
PRODID:-//Gooseneck Vineyards - ECPv6.15.20//NONSGML v1.0//EN
CALSCALE:GREGORIAN
METHOD:PUBLISH
X-ORIGINAL-URL:https://www.gooseneckvineyards.com
X-WR-CALDESC:Events for Gooseneck Vineyards
REFRESH-INTERVAL;VALUE=DURATION:PT1H
X-Robots-Tag:noindex
X-PUBLISHED-TTL:PT1H
BEGIN:VTIMEZONE
TZID:America/New_York
BEGIN:DAYLIGHT
TZOFFSETFROM:-0500
TZOFFSETTO:-0400
TZNAME:EDT
DTSTART:20250309T070000
END:DAYLIGHT
BEGIN:STANDARD
TZOFFSETFROM:-0400
TZOFFSETTO:-0500
TZNAME:EST
DTSTART:20251102T060000
END:STANDARD
BEGIN:DAYLIGHT
TZOFFSETFROM:-0500
TZOFFSETTO:-0400
TZNAME:EDT
DTSTART:20260308T070000
END:DAYLIGHT
BEGIN:STANDARD
TZOFFSETFROM:-0400
TZOFFSETTO:-0500
TZNAME:EST
DTSTART:20261101T060000
END:STANDARD
BEGIN:DAYLIGHT
TZOFFSETFROM:-0500
TZOFFSETTO:-0400
TZNAME:EDT
DTSTART:20270314T070000
END:DAYLIGHT
BEGIN:STANDARD
TZOFFSETFROM:-0400
TZOFFSETTO:-0500
TZNAME:EST
DTSTART:20271107T060000
END:STANDARD
END:VTIMEZONE
BEGIN:VEVENT
DTSTART;TZID=America/New_York:20260605T120000
DTEND;TZID=America/New_York:20260605T200000
DTSTAMP:20260421T120041
CREATED:20260320T182906Z
LAST-MODIFIED:20260421T155823Z
UID:10001465-1780660800-1780689600@www.gooseneckvineyards.com
SUMMARY:Food Truck: Vetrano’s Wood Fired Pizza
DESCRIPTION:Vetrano’s Wood Fired Pizza  \nBeyond the New York-style crust known to South County\, Vetrano’s invites you to discover a wood-fired taste that transcends the ordinary. Handmade and crafted with locally sourced ingredients\, ignite your senses with an unforgettable experience! \n@vetranoswoodfired
URL:https://www.gooseneckvineyards.com/event/food-truck-vetranos-wood-fired-pizza-101/
CATEGORIES:food,wine
ATTACH;FMTTYPE=image/jpeg:https://www.gooseneckvineyards.com/wp-content/uploads/2025/05/Pizza.jpg
END:VEVENT
BEGIN:VEVENT
DTSTART;TZID=America/New_York:20260605T170000
DTEND;TZID=America/New_York:20260605T200000
DTSTAMP:20260421T120041
CREATED:20260406T231211Z
LAST-MODIFIED:20260421T155824Z
UID:10001564-1780678800-1780689600@www.gooseneckvineyards.com
SUMMARY:Music: Lauren King
DESCRIPTION:Lauren KingLauren King is a singer-songwriter known for her folk/country style and storytelling. She was born in Smithfield\, Rhode Island and now resides in Colorado. She is known for her album "The Wolf is Back" and has released other singles\, including "The Knife". Lauren also collaborates with other musicians\, including LA-based DJs.  \nLauren King
URL:https://www.gooseneckvineyards.com/event/music-lauren-king/
CATEGORIES:music,wine
ATTACH;FMTTYPE=image/jpeg:https://www.gooseneckvineyards.com/wp-content/uploads/2025/05/Guitar-4.jpg
END:VEVENT
BEGIN:VEVENT
DTSTART;TZID=America/New_York:20260606T120000
DTEND;TZID=America/New_York:20260606T200000
DTSTAMP:20260421T120041
CREATED:20260320T182907Z
LAST-MODIFIED:20260421T155825Z
UID:10001466-1780747200-1780776000@www.gooseneckvineyards.com
SUMMARY:Food Truck: Vetrano’s Wood Fired Pizza
DESCRIPTION:Vetrano’s Wood Fired Pizza  \nBeyond the New York-style crust known to South County\, Vetrano’s invites you to discover a wood-fired taste that transcends the ordinary. Handmade and crafted with locally sourced ingredients\, ignite your senses with an unforgettable experience! \n@vetranoswoodfired
URL:https://www.gooseneckvineyards.com/event/food-truck-vetranos-wood-fired-pizza-108/
CATEGORIES:food,wine
ATTACH;FMTTYPE=image/jpeg:https://www.gooseneckvineyards.com/wp-content/uploads/2025/05/Pizza.jpg
END:VEVENT
BEGIN:VEVENT
DTSTART;TZID=America/New_York:20260606T140000
DTEND;TZID=America/New_York:20260606T170000
DTSTAMP:20260421T120041
CREATED:20260406T232730Z
LAST-MODIFIED:20260421T155826Z
UID:10001565-1780754400-1780765200@www.gooseneckvineyards.com
SUMMARY:Music: Tyler John Live
DESCRIPTION:A Rhode Island native with a thoughtful\, story‑driven approach to music\, Tyler John  draws inspiration from quiet mornings\, late‑night drives\, and well‑worn guitars rich with history. Those influences shape acoustic performances that feel genuine and inviting\, blending timeless classics with modern favorites. From intimate cafés to lively community gatherings\, each set creates an easygoing atmosphere where guests can relax\, connect\, and savor the moment — an ideal complement to an afternoon or evening at the winery. \n@tylerjohnlive
URL:https://www.gooseneckvineyards.com/event/music-tyler-john-live-2/
CATEGORIES:music,wine
ATTACH;FMTTYPE=image/jpeg:https://www.gooseneckvineyards.com/wp-content/uploads/2025/05/Guitar-4.jpg
END:VEVENT
BEGIN:VEVENT
DTSTART;TZID=America/New_York:20260607T120000
DTEND;TZID=America/New_York:20260607T200000
DTSTAMP:20260421T120041
CREATED:20260320T182907Z
LAST-MODIFIED:20260421T155840Z
UID:10001467-1780833600-1780862400@www.gooseneckvineyards.com
SUMMARY:Food Truck: Vetrano’s Wood Fired Pizza
DESCRIPTION:Vetrano’s Wood Fired Pizza  \nBeyond the New York-style crust known to South County\, Vetrano’s invites you to discover a wood-fired taste that transcends the ordinary. Handmade and crafted with locally sourced ingredients\, ignite your senses with an unforgettable experience! \n@vetranoswoodfired
URL:https://www.gooseneckvineyards.com/event/food-truck-vetranos-wood-fired-pizza-109/
CATEGORIES:food,wine
ATTACH;FMTTYPE=image/jpeg:https://www.gooseneckvineyards.com/wp-content/uploads/2025/05/Pizza.jpg
END:VEVENT
BEGIN:VEVENT
DTSTART;TZID=America/New_York:20260607T130000
DTEND;TZID=America/New_York:20260607T160000
DTSTAMP:20260421T120041
CREATED:20260406T232731Z
LAST-MODIFIED:20260421T155827Z
UID:10001566-1780837200-1780848000@www.gooseneckvineyards.com
SUMMARY:Music: Matt & Jimmy
DESCRIPTION:Matt and Jimmy first met in 2021 during a kitchen jam session in Newport\, RI. Matt\, a guitarist fresh out of Berklee College of Music\, and Jimmy\, a self-taught singer new to town\, quickly connected. That summer\, they began performing together regularly at local venues. Their talent and passion soon caught the attention of an established cover band\, who brought them both on board. Today\, in 2026\, when they’re not performing as a duo\, they play as members of Angelus Hall\, entertaining crowds of hundreds every weekend. \n@jimmyweinstock@matt_reynolds_music
URL:https://www.gooseneckvineyards.com/event/music-matt-jimmy/
CATEGORIES:music,wine
ATTACH;FMTTYPE=image/jpeg:https://www.gooseneckvineyards.com/wp-content/uploads/2025/05/Guitar-4.jpg
END:VEVENT
BEGIN:VEVENT
DTSTART;TZID=America/New_York:20260607T163000
DTEND;TZID=America/New_York:20260607T193000
DTSTAMP:20260421T120041
CREATED:20260406T234234Z
LAST-MODIFIED:20260421T155828Z
UID:10001567-1780849800-1780860600@www.gooseneckvineyards.com
SUMMARY:Music: Robert Fern
DESCRIPTION:A Rhode Island–based musician with an acoustic‑driven sound\, Robert Fern blends alternative influences with classic rock and familiar favorites to create relaxed\, engaging performances. Expert guitar work and inspirations ranging from Pink Floyd and Nirvana to Tom Petty and The Beatles shape a warm\, nostalgic style that resonates with a wide range of audiences.Regular appearances across the state showcase polished musicianship and easygoing stage presence — an ideal soundtrack for a laid‑back afternoon or evening at the winery. \n@robertfernsmusic
URL:https://www.gooseneckvineyards.com/event/music-robert-fern/
CATEGORIES:music,wine
ATTACH;FMTTYPE=image/jpeg:https://www.gooseneckvineyards.com/wp-content/uploads/2025/05/Guitar-4.jpg
END:VEVENT
BEGIN:VEVENT
DTSTART;TZID=America/New_York:20260608T140000
DTEND;TZID=America/New_York:20260608T200000
DTSTAMP:20260421T120041
CREATED:20260320T182907Z
LAST-MODIFIED:20260421T155840Z
UID:10001468-1780927200-1780948800@www.gooseneckvineyards.com
SUMMARY:Food Truck: Vetrano’s Wood Fired Pizza
DESCRIPTION:Vetrano’s Wood Fired Pizza  \nBeyond the New York-style crust known to South County\, Vetrano’s invites you to discover a wood-fired taste that transcends the ordinary. Handmade and crafted with locally sourced ingredients\, ignite your senses with an unforgettable experience! \n@vetranoswoodfired
URL:https://www.gooseneckvineyards.com/event/food-truck-vetranos-wood-fired-pizza-110/
CATEGORIES:food,wine
ATTACH;FMTTYPE=image/jpeg:https://www.gooseneckvineyards.com/wp-content/uploads/2025/05/Pizza.jpg
END:VEVENT
BEGIN:VEVENT
DTSTART;TZID=America/New_York:20260609T140000
DTEND;TZID=America/New_York:20260609T200000
DTSTAMP:20260421T120041
CREATED:20260407T151226Z
LAST-MODIFIED:20260421T155842Z
UID:10001591-1781013600-1781035200@www.gooseneckvineyards.com
SUMMARY:Food Truck: Vetrano’s Wood Fired Pizza
DESCRIPTION:Vetrano’s Wood Fired Pizza  \nBeyond the New York-style crust known to South County\, Vetrano’s invites you to discover a wood-fired taste that transcends the ordinary. Handmade and crafted with locally sourced ingredients\, ignite your senses with an unforgettable experience! \n@vetranoswoodfired
URL:https://www.gooseneckvineyards.com/event/food-truck-vetranos-wood-fired-pizza-14/
CATEGORIES:food,wine
ATTACH;FMTTYPE=image/jpeg:https://www.gooseneckvineyards.com/wp-content/uploads/2025/05/Pizza.jpg
END:VEVENT
BEGIN:VEVENT
DTSTART;TZID=America/New_York:20260610T140000
DTEND;TZID=America/New_York:20260610T200000
DTSTAMP:20260421T120041
CREATED:20260320T182907Z
LAST-MODIFIED:20260421T155843Z
UID:10001469-1781100000-1781121600@www.gooseneckvineyards.com
SUMMARY:Food Truck: Vetrano’s Wood Fired Pizza
DESCRIPTION:Vetrano’s Wood Fired Pizza  \nBeyond the New York-style crust known to South County\, Vetrano’s invites you to discover a wood-fired taste that transcends the ordinary. Handmade and crafted with locally sourced ingredients\, ignite your senses with an unforgettable experience! \n@vetranoswoodfired
URL:https://www.gooseneckvineyards.com/event/food-truck-vetranos-wood-fired-pizza-111/
CATEGORIES:food,wine
ATTACH;FMTTYPE=image/jpeg:https://www.gooseneckvineyards.com/wp-content/uploads/2025/05/Pizza.jpg
END:VEVENT
BEGIN:VEVENT
DTSTART;TZID=America/New_York:20260611T140000
DTEND;TZID=America/New_York:20260611T200000
DTSTAMP:20260421T120041
CREATED:20260320T182908Z
LAST-MODIFIED:20260421T155845Z
UID:10001470-1781186400-1781208000@www.gooseneckvineyards.com
SUMMARY:Food Truck: Vetrano’s Wood Fired Pizza
DESCRIPTION:Vetrano’s Wood Fired Pizza  \nBeyond the New York-style crust known to South County\, Vetrano’s invites you to discover a wood-fired taste that transcends the ordinary. Handmade and crafted with locally sourced ingredients\, ignite your senses with an unforgettable experience! \n@vetranoswoodfired
URL:https://www.gooseneckvineyards.com/event/food-truck-vetranos-wood-fired-pizza-112/
CATEGORIES:food,wine
ATTACH;FMTTYPE=image/jpeg:https://www.gooseneckvineyards.com/wp-content/uploads/2025/05/Pizza.jpg
END:VEVENT
BEGIN:VEVENT
DTSTART;TZID=America/New_York:20260611T170000
DTEND;TZID=America/New_York:20260611T200000
DTSTAMP:20260421T120041
CREATED:20260406T234236Z
LAST-MODIFIED:20260421T155844Z
UID:10001568-1781197200-1781208000@www.gooseneckvineyards.com
SUMMARY:Music: Catching Blue Duo
DESCRIPTION:Catching Blue: Amanda and Matt bring you an acoustic\, unplugged version of their full-band electric performance! They play locally throughout Rhode Island with a set list completely designed from beginning to end to please a wide range of musical tastes.  Their set list include a mix of pop\, country\, and rock ‘n’ roll\, covering artists like Morgan Wallen\, Taylor Swift\, Amy Winehouse\, The Killers\, Fleetwood Mac\, Journey\, and so many more! \n@catchingblue_
URL:https://www.gooseneckvineyards.com/event/music-catching-blue-duo/
CATEGORIES:music,wine
ATTACH;FMTTYPE=image/jpeg:https://www.gooseneckvineyards.com/wp-content/uploads/2025/05/Guitar-4.jpg
END:VEVENT
BEGIN:VEVENT
DTSTART;TZID=America/New_York:20260612T120000
DTEND;TZID=America/New_York:20260612T200000
DTSTAMP:20260421T120041
CREATED:20260320T182908Z
LAST-MODIFIED:20260421T155846Z
UID:10001471-1781265600-1781294400@www.gooseneckvineyards.com
SUMMARY:Food Truck: Vetrano’s Wood Fired Pizza
DESCRIPTION:Vetrano’s Wood Fired Pizza  \nBeyond the New York-style crust known to South County\, Vetrano’s invites you to discover a wood-fired taste that transcends the ordinary. Handmade and crafted with locally sourced ingredients\, ignite your senses with an unforgettable experience! \n@vetranoswoodfired
URL:https://www.gooseneckvineyards.com/event/food-truck-vetranos-wood-fired-pizza-113/
CATEGORIES:food,wine
ATTACH;FMTTYPE=image/jpeg:https://www.gooseneckvineyards.com/wp-content/uploads/2025/05/Pizza.jpg
END:VEVENT
BEGIN:VEVENT
DTSTART;TZID=America/New_York:20260612T170000
DTEND;TZID=America/New_York:20260612T200000
DTSTAMP:20260421T120041
CREATED:20260406T234237Z
LAST-MODIFIED:20260421T155847Z
UID:10001569-1781283600-1781294400@www.gooseneckvineyards.com
SUMMARY:Music: Lauren King
DESCRIPTION:Lauren King is a RI singer-songwriter known for her folk/country style and storytelling. She is known for her album “The Wolf is Back” and has released other singles\, including “The Knife”. Lauren also collaborates with other musicians\, including LA-based DJs.  \n@laurenkingmusic
URL:https://www.gooseneckvineyards.com/event/music-lauren-king-3/
CATEGORIES:music,wine
ATTACH;FMTTYPE=image/jpeg:https://www.gooseneckvineyards.com/wp-content/uploads/2025/05/Guitar-4.jpg
END:VEVENT
BEGIN:VEVENT
DTSTART;TZID=America/New_York:20260613T120000
DTEND;TZID=America/New_York:20260613T200000
DTSTAMP:20260421T120041
CREATED:20260320T182909Z
LAST-MODIFIED:20260421T155848Z
UID:10001472-1781352000-1781380800@www.gooseneckvineyards.com
SUMMARY:Food Truck: Vetrano’s Wood Fired Pizza
DESCRIPTION:Vetrano’s Wood Fired Pizza  \nBeyond the New York-style crust known to South County\, Vetrano’s invites you to discover a wood-fired taste that transcends the ordinary. Handmade and crafted with locally sourced ingredients\, ignite your senses with an unforgettable experience! \n@vetranoswoodfired
URL:https://www.gooseneckvineyards.com/event/food-truck-vetranos-wood-fired-pizza-114/
CATEGORIES:food,wine
ATTACH;FMTTYPE=image/jpeg:https://www.gooseneckvineyards.com/wp-content/uploads/2025/05/Pizza.jpg
END:VEVENT
BEGIN:VEVENT
DTSTART;TZID=America/New_York:20260613T150000
DTEND;TZID=America/New_York:20260613T180000
DTSTAMP:20260421T120041
CREATED:20260406T235719Z
LAST-MODIFIED:20260421T155849Z
UID:10001570-1781362800-1781373600@www.gooseneckvineyards.com
SUMMARY:Music: Jacob Hunsinger
DESCRIPTION:Jacob Hunsinger is a Rhode Island–based musician known for his dynamic performances and versatile sound. Blending strong vocals with skilled musicianship\, he brings a fresh energy to every stage\, whether performing solo or with a full band. With a style that spans across genres and a natural ability to connect with audiences\, Jacob has become a standout presence in the local music scene. \n@the_rock_bottom_gram
URL:https://www.gooseneckvineyards.com/event/music-jacob-hunsinger-2/
CATEGORIES:music,wine
ATTACH;FMTTYPE=image/jpeg:https://www.gooseneckvineyards.com/wp-content/uploads/2025/05/Guitar-4.jpg
END:VEVENT
BEGIN:VEVENT
DTSTART;TZID=America/New_York:20260614T120000
DTEND;TZID=America/New_York:20260614T200000
DTSTAMP:20260421T120041
CREATED:20260320T182921Z
LAST-MODIFIED:20260421T155903Z
UID:10001473-1781438400-1781467200@www.gooseneckvineyards.com
SUMMARY:Food Truck: Vetrano’s Wood Fired Pizza
DESCRIPTION:Vetrano’s Wood Fired Pizza  \nBeyond the New York-style crust known to South County\, Vetrano’s invites you to discover a wood-fired taste that transcends the ordinary. Handmade and crafted with locally sourced ingredients\, ignite your senses with an unforgettable experience! \n@vetranoswoodfired
URL:https://www.gooseneckvineyards.com/event/food-truck-vetranos-wood-fired-pizza-115/
CATEGORIES:food,wine
ATTACH;FMTTYPE=image/jpeg:https://www.gooseneckvineyards.com/wp-content/uploads/2025/05/Pizza.jpg
END:VEVENT
BEGIN:VEVENT
DTSTART;TZID=America/New_York:20260614T140000
DTEND;TZID=America/New_York:20260614T170000
DTSTAMP:20260421T120041
CREATED:20260406T235720Z
LAST-MODIFIED:20260421T155902Z
UID:10001573-1781445600-1781456400@www.gooseneckvineyards.com
SUMMARY:Music: Dan Greaves
DESCRIPTION:Dan Greaves is a Rhode Island–based musician known for his engaging performances and versatile style. With a strong vocal presence and a wide-ranging repertoire\, he delivers a dynamic mix of songs that resonate with diverse audiences. Whether playing intimate venues or larger stages\, Dan brings a genuine energy and passion for music that creates a memorable live experience. \n@dangreaves_music
URL:https://www.gooseneckvineyards.com/event/music-dan-greaves-2/
CATEGORIES:music,wine
ATTACH;FMTTYPE=image/jpeg:https://www.gooseneckvineyards.com/wp-content/uploads/2025/05/Guitar-4.jpg
END:VEVENT
BEGIN:VEVENT
DTSTART;TZID=America/New_York:20260614T163000
DTEND;TZID=America/New_York:20260614T193000
DTSTAMP:20260421T120041
CREATED:20260406T235720Z
LAST-MODIFIED:20260421T155901Z
UID:10001572-1781454600-1781465400@www.gooseneckvineyards.com
SUMMARY:Music: Rickie Miller
DESCRIPTION:A seasoned singer and multi‑instrumentalist from Eastern Connecticut\, Rickie Miller has spent more than 15 years performing throughout the tri‑state area. Each set features a versatile blend of styles and genres\, delivered with polish and warmth. The result is an engaging\, easygoing performance that pairs beautifully with a relaxed afternoon or evening at the winery. \n@rickielouise
URL:https://www.gooseneckvineyards.com/event/music-rickie-miller-4/
CATEGORIES:music,wine
ATTACH;FMTTYPE=image/jpeg:https://www.gooseneckvineyards.com/wp-content/uploads/2025/05/Guitar-4.jpg
END:VEVENT
BEGIN:VEVENT
DTSTART;TZID=America/New_York:20260615T140000
DTEND;TZID=America/New_York:20260615T200000
DTSTAMP:20260421T120041
CREATED:20260320T182921Z
LAST-MODIFIED:20260421T155904Z
UID:10001474-1781532000-1781553600@www.gooseneckvineyards.com
SUMMARY:Food Truck: Vetrano’s Wood Fired Pizza
DESCRIPTION:Vetrano’s Wood Fired Pizza  \nBeyond the New York-style crust known to South County\, Vetrano’s invites you to discover a wood-fired taste that transcends the ordinary. Handmade and crafted with locally sourced ingredients\, ignite your senses with an unforgettable experience! \n@vetranoswoodfired
URL:https://www.gooseneckvineyards.com/event/food-truck-vetranos-wood-fired-pizza-116/
CATEGORIES:food,wine
ATTACH;FMTTYPE=image/jpeg:https://www.gooseneckvineyards.com/wp-content/uploads/2025/05/Pizza.jpg
END:VEVENT
BEGIN:VEVENT
DTSTART;TZID=America/New_York:20260616T140000
DTEND;TZID=America/New_York:20260616T200000
DTSTAMP:20260421T120041
CREATED:20260407T151230Z
LAST-MODIFIED:20260421T155905Z
UID:10001592-1781618400-1781640000@www.gooseneckvineyards.com
SUMMARY:Food Truck: Vetrano’s Wood Fired Pizza
DESCRIPTION:Vetrano’s Wood Fired Pizza  \nBeyond the New York-style crust known to South County\, Vetrano’s invites you to discover a wood-fired taste that transcends the ordinary. Handmade and crafted with locally sourced ingredients\, ignite your senses with an unforgettable experience! \n@vetranoswoodfired
URL:https://www.gooseneckvineyards.com/event/food-truck-vetranos-wood-fired-pizza-15/
CATEGORIES:food,wine
ATTACH;FMTTYPE=image/jpeg:https://www.gooseneckvineyards.com/wp-content/uploads/2025/05/Pizza.jpg
END:VEVENT
BEGIN:VEVENT
DTSTART;TZID=America/New_York:20260617T140000
DTEND;TZID=America/New_York:20260617T200000
DTSTAMP:20260421T120041
CREATED:20260320T182922Z
LAST-MODIFIED:20260421T155907Z
UID:10001475-1781704800-1781726400@www.gooseneckvineyards.com
SUMMARY:Food Truck: Vetrano’s Wood Fired Pizza
DESCRIPTION:Vetrano’s Wood Fired Pizza  \nBeyond the New York-style crust known to South County\, Vetrano’s invites you to discover a wood-fired taste that transcends the ordinary. Handmade and crafted with locally sourced ingredients\, ignite your senses with an unforgettable experience! \n@vetranoswoodfired
URL:https://www.gooseneckvineyards.com/event/food-truck-vetranos-wood-fired-pizza-117/
CATEGORIES:food,wine
ATTACH;FMTTYPE=image/jpeg:https://www.gooseneckvineyards.com/wp-content/uploads/2025/05/Pizza.jpg
END:VEVENT
BEGIN:VEVENT
DTSTART;TZID=America/New_York:20260618T140000
DTEND;TZID=America/New_York:20260618T200000
DTSTAMP:20260421T120041
CREATED:20260320T182922Z
LAST-MODIFIED:20260421T155908Z
UID:10001476-1781791200-1781812800@www.gooseneckvineyards.com
SUMMARY:Food Truck: Vetrano’s Wood Fired Pizza
DESCRIPTION:Vetrano’s Wood Fired Pizza  \nBeyond the New York-style crust known to South County\, Vetrano’s invites you to discover a wood-fired taste that transcends the ordinary. Handmade and crafted with locally sourced ingredients\, ignite your senses with an unforgettable experience! \n@vetranoswoodfired
URL:https://www.gooseneckvineyards.com/event/food-truck-vetranos-wood-fired-pizza-118/
CATEGORIES:food,wine
ATTACH;FMTTYPE=image/jpeg:https://www.gooseneckvineyards.com/wp-content/uploads/2025/05/Pizza.jpg
END:VEVENT
BEGIN:VEVENT
DTSTART;TZID=America/New_York:20260618T170000
DTEND;TZID=America/New_York:20260618T200000
DTSTAMP:20260421T120041
CREATED:20260406T235722Z
LAST-MODIFIED:20260421T155910Z
UID:10001574-1781802000-1781812800@www.gooseneckvineyards.com
SUMMARY:Music: Megan Chenot
DESCRIPTION:Known for creating rich\, layered harmonies live through a vocal looping setup\, Megan Chenot delivers dynamic solo performances that stand apart. A remarkably versatile voice moves effortlessly from classic rock and jazz to Motown and pop\, earning praise for sets that are lively\, polished\, and full of personality. \nAn eclectic mix of favorites from across decades — along with a talent for reading the room and welcoming requests — keeps each show fresh and engaging\, creating the perfect soundtrack for a relaxed and spirited afternoon or evening at the winery. \nMegan Chenot
URL:https://www.gooseneckvineyards.com/event/music-megan-chenot/
CATEGORIES:music,wine
ATTACH;FMTTYPE=image/jpeg:https://www.gooseneckvineyards.com/wp-content/uploads/2025/05/Guitar-4.jpg
END:VEVENT
BEGIN:VEVENT
DTSTART;TZID=America/New_York:20260619T120000
DTEND;TZID=America/New_York:20260619T200000
DTSTAMP:20260421T120041
CREATED:20260321T011202Z
LAST-MODIFIED:20260421T155911Z
UID:10001477-1781870400-1781899200@www.gooseneckvineyards.com
SUMMARY:Food Truck: Vetrano’s Wood Fired Pizza
DESCRIPTION:Vetrano’s Wood Fired Pizza  \nBeyond the New York-style crust known to South County\, Vetrano’s invites you to discover a wood-fired taste that transcends the ordinary. Handmade and crafted with locally sourced ingredients\, ignite your senses with an unforgettable experience! \n@vetranoswoodfired
URL:https://www.gooseneckvineyards.com/event/food-truck-vetranos-wood-fired-pizza-119/
CATEGORIES:food,wine
ATTACH;FMTTYPE=image/jpeg:https://www.gooseneckvineyards.com/wp-content/uploads/2025/05/Pizza.jpg
END:VEVENT
BEGIN:VEVENT
DTSTART;TZID=America/New_York:20260619T160000
DTEND;TZID=America/New_York:20260619T190000
DTSTAMP:20260421T120041
CREATED:20260406T235723Z
LAST-MODIFIED:20260421T155912Z
UID:10001575-1781884800-1781895600@www.gooseneckvineyards.com
SUMMARY:Music: Sean Rivers
DESCRIPTION:With over two decades of live performance experience across New England\, Sean brings a seasoned\, engaging presence to every show. Intimate venues have shaped a sound rooted in connection\, storytelling\, and original music\, creating performances that feel both personal and polished. Each set is crafted to complement the atmosphere — relaxed\, inviting\, and perfect for an afternoon or evening at the winery. \n@seanriversmusic
URL:https://www.gooseneckvineyards.com/event/music-sean-rivers-2/
CATEGORIES:music,wine
ATTACH;FMTTYPE=image/jpeg:https://www.gooseneckvineyards.com/wp-content/uploads/2025/05/Guitar-4.jpg
END:VEVENT
BEGIN:VEVENT
DTSTART;TZID=America/New_York:20260620T120000
DTEND;TZID=America/New_York:20260620T200000
DTSTAMP:20260421T120041
CREATED:20260322T001141Z
LAST-MODIFIED:20260421T155925Z
UID:10001478-1781956800-1781985600@www.gooseneckvineyards.com
SUMMARY:Food Truck: Vetrano’s Wood Fired Pizza
DESCRIPTION:Vetrano’s Wood Fired Pizza  \nBeyond the New York-style crust known to South County\, Vetrano’s invites you to discover a wood-fired taste that transcends the ordinary. Handmade and crafted with locally sourced ingredients\, ignite your senses with an unforgettable experience! \n@vetranoswoodfired
URL:https://www.gooseneckvineyards.com/event/food-truck-vetranos-wood-fired-pizza-120/
CATEGORIES:food,wine
ATTACH;FMTTYPE=image/jpeg:https://www.gooseneckvineyards.com/wp-content/uploads/2025/05/Pizza.jpg
END:VEVENT
BEGIN:VEVENT
DTSTART;TZID=America/New_York:20260620T140000
DTEND;TZID=America/New_York:20260620T170000
DTSTAMP:20260421T120041
CREATED:20260406T235724Z
LAST-MODIFIED:20260421T155924Z
UID:10001576-1781964000-1781974800@www.gooseneckvineyards.com
SUMMARY:Music: Dave Alves Duo
DESCRIPTION:A lifelong New England musician\, Dave Alves brings a rich background shaped by classical training\, jazz ensembles\, original projects\, and years of regional performance. Experience spans acoustic lounge sets\, collaborative bands\, and rock‑influenced recordings available on major streaming platforms\, all tied together by thoughtful songwriting and polished musicianship. \nCurrently working on a solo acoustic album centered on intimate storytelling\, each appearance delivers a relaxed\, engaging atmosphere — an easy pairing for an afternoon or evening at the winery. \n@davealvesmusic
URL:https://www.gooseneckvineyards.com/event/music-dave-alves-duo/
CATEGORIES:music,wine
ATTACH;FMTTYPE=image/jpeg:https://www.gooseneckvineyards.com/wp-content/uploads/2025/05/Guitar-4.jpg
END:VEVENT
BEGIN:VEVENT
DTSTART;TZID=America/New_York:20260621T120000
DTEND;TZID=America/New_York:20260621T200000
DTSTAMP:20260421T120041
CREATED:20260323T001137Z
LAST-MODIFIED:20260421T155927Z
UID:10001479-1782043200-1782072000@www.gooseneckvineyards.com
SUMMARY:Food Truck: Vetrano’s Wood Fired Pizza
DESCRIPTION:Vetrano’s Wood Fired Pizza  \nBeyond the New York-style crust known to South County\, Vetrano’s invites you to discover a wood-fired taste that transcends the ordinary. Handmade and crafted with locally sourced ingredients\, ignite your senses with an unforgettable experience! \n@vetranoswoodfired
URL:https://www.gooseneckvineyards.com/event/food-truck-vetranos-wood-fired-pizza-121/
CATEGORIES:food,wine
ATTACH;FMTTYPE=image/jpeg:https://www.gooseneckvineyards.com/wp-content/uploads/2025/05/Pizza.jpg
END:VEVENT
BEGIN:VEVENT
DTSTART;TZID=America/New_York:20260621T140000
DTEND;TZID=America/New_York:20260621T170000
DTSTAMP:20260421T120041
CREATED:20260407T001235Z
LAST-MODIFIED:20260421T155926Z
UID:10001577-1782050400-1782061200@www.gooseneckvineyards.com
SUMMARY:Music: Corey Daniels
DESCRIPTION:A Rhode Island–based singer‑songwriter rooted in Americana traditions\, Corey Daniels brings reflective storytelling and a grounded\, lived‑in sound to every performance. Years of experience across New England — along with work as the vocalist for The Low Tides — have shaped a style that feels confident\, authentic\, and distinctly personal. \nEach set delivers warm\, engaging songs that settle naturally into an intimate setting — a perfect complement to a relaxed afternoon or evening at the winery. \n@coreydaniel.music
URL:https://www.gooseneckvineyards.com/event/music-corey-daniels/
CATEGORIES:music,wine
ATTACH;FMTTYPE=image/jpeg:https://www.gooseneckvineyards.com/wp-content/uploads/2025/05/Guitar-4.jpg
END:VEVENT
END:VCALENDAR