BEGIN:VCALENDAR
VERSION:2.0
PRODID:-//Gooseneck Vineyards - ECPv6.15.20//NONSGML v1.0//EN
CALSCALE:GREGORIAN
METHOD:PUBLISH
X-WR-CALNAME:Gooseneck Vineyards
X-ORIGINAL-URL:https://www.gooseneckvineyards.com
X-WR-CALDESC:Events for Gooseneck Vineyards
REFRESH-INTERVAL;VALUE=DURATION:PT1H
X-Robots-Tag:noindex
X-PUBLISHED-TTL:PT1H
BEGIN:VTIMEZONE
TZID:America/New_York
BEGIN:DAYLIGHT
TZOFFSETFROM:-0500
TZOFFSETTO:-0400
TZNAME:EDT
DTSTART:20250309T070000
END:DAYLIGHT
BEGIN:STANDARD
TZOFFSETFROM:-0400
TZOFFSETTO:-0500
TZNAME:EST
DTSTART:20251102T060000
END:STANDARD
BEGIN:DAYLIGHT
TZOFFSETFROM:-0500
TZOFFSETTO:-0400
TZNAME:EDT
DTSTART:20260308T070000
END:DAYLIGHT
BEGIN:STANDARD
TZOFFSETFROM:-0400
TZOFFSETTO:-0500
TZNAME:EST
DTSTART:20261101T060000
END:STANDARD
BEGIN:DAYLIGHT
TZOFFSETFROM:-0500
TZOFFSETTO:-0400
TZNAME:EDT
DTSTART:20270314T070000
END:DAYLIGHT
BEGIN:STANDARD
TZOFFSETFROM:-0400
TZOFFSETTO:-0500
TZNAME:EST
DTSTART:20271107T060000
END:STANDARD
END:VTIMEZONE
BEGIN:VEVENT
DTSTART;TZID=America/New_York:20260525T140000
DTEND;TZID=America/New_York:20260525T170000
DTSTAMP:20260423T101822
CREATED:20260407T151210Z
LAST-MODIFIED:20260423T141316Z
UID:10001589-1779717600-1779728400@www.gooseneckvineyards.com
SUMMARY:Music: Matt & Jimmy
DESCRIPTION:Matt and Jimmy first met in 2021 during a kitchen jam session in Newport\, RI.  Matt was a guitar player who recently graduated from Berklee College of Music and Jimmy was a self taught singer who just moved to town.  That summer Matt and Jimmy began to perform together playing regular due gigs at venues like The Landing\, Midtown Oyster Bar and At the Deck.  Their talent and love for performing caught the attention of an established local cover band who brought them both on board.  Today in 2025 when Matt and Jimmy are not performing as a dueo they can be seen as bandmates in Angelus Hall playing to crowds of hundreds every weekend at venues like Newport Blues Cafe and Ocean Mist \nJimmy WeinstockMatt Reynolds
URL:https://www.gooseneckvineyards.com/event/music-matt-jimmy-4/
CATEGORIES:music,wine
ATTACH;FMTTYPE=image/jpeg:https://www.gooseneckvineyards.com/wp-content/uploads/2025/05/Guitar-4.jpg
END:VEVENT
BEGIN:VEVENT
DTSTART;VALUE=DATE:20260527
DTEND;VALUE=DATE:20260528
DTSTAMP:20260423T101822
CREATED:20260325T185702Z
LAST-MODIFIED:20260423T141318Z
UID:10001532-1779840000-1779926399@www.gooseneckvineyards.com
SUMMARY:Mahjong Wednesdays at Gooseneck Vineyards
DESCRIPTION:Mahjong Wednesdays at Gooseneck Vineyards 🍷🀄Sip\, learn\, and play one of the world’s most beloved games — Mahjong!Join Betsy Hirshorn every Wednesday for a fun\, social series designed for all levels. Each session includes a glass of Gooseneck Vineyards wine and charcuterie bites. \nChoose a session that works for you: \n🀄 5:00–8:00 | Player SessionFor experienced players ready to play\, sip\, and connect.PLEASE NOTE: Players must have their own current Mahjong card. \n🀄 5:30–7:30 PM | Learner SessionMade for beginners — come play and learn! \n🎟️ Limited seats available — buy your ticket today!
URL:https://www.gooseneckvineyards.com/event/mahjong-wednesdays-at-gooseneck-vineyards-21/
LOCATION:Gooseneck Vineyards\, 1340 Tower Hill Rd\, North Kingstown\, RI\, 02852\, United States
CATEGORIES:Mahjong,socialevents,wine
ATTACH;FMTTYPE=image/png:https://www.gooseneckvineyards.com/wp-content/uploads/2025/11/Mahjong-2.png
END:VEVENT
BEGIN:VEVENT
DTSTART;TZID=America/New_York:20260527T140000
DTEND;TZID=America/New_York:20260527T200000
DTSTAMP:20260423T101822
CREATED:20260320T182849Z
LAST-MODIFIED:20260423T141319Z
UID:10001457-1779890400-1779912000@www.gooseneckvineyards.com
SUMMARY:Food Truck: Vetrano’s Wood Fired Pizza
DESCRIPTION:Vetrano’s Wood Fired Pizza  \nBeyond the New York-style crust known to South County\, Vetrano’s invites you to discover a wood-fired taste that transcends the ordinary. Handmade and crafted with locally sourced ingredients\, ignite your senses with an unforgettable experience! \n@vetranoswoodfired
URL:https://www.gooseneckvineyards.com/event/food-truck-vetranos-wood-fired-pizza-93/
CATEGORIES:food,wine
ATTACH;FMTTYPE=image/jpeg:https://www.gooseneckvineyards.com/wp-content/uploads/2025/05/Pizza.jpg
END:VEVENT
BEGIN:VEVENT
DTSTART;TZID=America/New_York:20260528T140000
DTEND;TZID=America/New_York:20260528T200000
DTSTAMP:20260423T101822
CREATED:20260320T182850Z
LAST-MODIFIED:20260423T141333Z
UID:10001458-1779976800-1779998400@www.gooseneckvineyards.com
SUMMARY:Food Truck: Vetrano’s Wood Fired Pizza
DESCRIPTION:Vetrano’s Wood Fired Pizza  \nBeyond the New York-style crust known to South County\, Vetrano’s invites you to discover a wood-fired taste that transcends the ordinary. Handmade and crafted with locally sourced ingredients\, ignite your senses with an unforgettable experience! \n@vetranoswoodfired
URL:https://www.gooseneckvineyards.com/event/food-truck-vetranos-wood-fired-pizza-94/
CATEGORIES:food,wine
ATTACH;FMTTYPE=image/jpeg:https://www.gooseneckvineyards.com/wp-content/uploads/2025/05/Pizza.jpg
END:VEVENT
BEGIN:VEVENT
DTSTART;TZID=America/New_York:20260528T170000
DTEND;TZID=America/New_York:20260528T200000
DTSTAMP:20260423T101822
CREATED:20260227T004232Z
LAST-MODIFIED:20260423T141320Z
UID:10001388-1779987600-1779998400@www.gooseneckvineyards.com
SUMMARY:Music: Megan Chenot
DESCRIPTION:Known for creating rich\, layered harmonies live through a vocal looping setup\, this artist delivers dynamic solo performances that stand apart. A remarkably versatile voice moves effortlessly from classic rock and jazz to Motown and pop\, earning praise for sets that are lively\, polished\, and full of personality. \nAn eclectic mix of favorites from across decades — along with a talent for reading the room and welcoming requests — keeps each show fresh and engaging\, creating the perfect soundtrack for a relaxed and spirited afternoon or evening at the winery. 🍷🎶 \nMegan Chenot
URL:https://www.gooseneckvineyards.com/event/music-megan-chenot-16/
CATEGORIES:music,wine
ATTACH;FMTTYPE=image/jpeg:https://www.gooseneckvineyards.com/wp-content/uploads/2025/05/Guitar-4.jpg
END:VEVENT
BEGIN:VEVENT
DTSTART;TZID=America/New_York:20260529T120000
DTEND;TZID=America/New_York:20260529T200000
DTSTAMP:20260423T101822
CREATED:20260320T182850Z
LAST-MODIFIED:20260423T141334Z
UID:10001459-1780056000-1780084800@www.gooseneckvineyards.com
SUMMARY:Food Truck: Vetrano’s Wood Fired Pizza
DESCRIPTION:Vetrano’s Wood Fired Pizza  \nBeyond the New York-style crust known to South County\, Vetrano’s invites you to discover a wood-fired taste that transcends the ordinary. Handmade and crafted with locally sourced ingredients\, ignite your senses with an unforgettable experience! \n@vetranoswoodfired
URL:https://www.gooseneckvineyards.com/event/food-truck-vetranos-wood-fired-pizza-95/
CATEGORIES:food,wine
ATTACH;FMTTYPE=image/jpeg:https://www.gooseneckvineyards.com/wp-content/uploads/2025/05/Pizza.jpg
END:VEVENT
BEGIN:VEVENT
DTSTART;TZID=America/New_York:20260530T120000
DTEND;TZID=America/New_York:20260530T180000
DTSTAMP:20260423T101822
CREATED:20260414T191235Z
LAST-MODIFIED:20260423T141337Z
UID:10001617-1780142400-1780164000@www.gooseneckvineyards.com
SUMMARY:Food Truck: Newport Chowder Company
DESCRIPTION:Newport Chowder Company \nFamily Owned Food Truck honoring her mother's award winning seafood chowder recipe. Serving their award winning chowders and other New England classics! \n@newportchowdercompany
URL:https://www.gooseneckvineyards.com/event/food-truck-newport-chowder-company-15/
END:VEVENT
BEGIN:VEVENT
DTSTART;TZID=America/New_York:20260530T120000
DTEND;TZID=America/New_York:20260530T200000
DTSTAMP:20260423T101822
CREATED:20260320T182850Z
LAST-MODIFIED:20260423T141336Z
UID:10001460-1780142400-1780171200@www.gooseneckvineyards.com
SUMMARY:Food Truck: Vetrano’s Wood Fired Pizza
DESCRIPTION:Vetrano’s Wood Fired Pizza  \nBeyond the New York-style crust known to South County\, Vetrano’s invites you to discover a wood-fired taste that transcends the ordinary. Handmade and crafted with locally sourced ingredients\, ignite your senses with an unforgettable experience! \n@vetranoswoodfired
URL:https://www.gooseneckvineyards.com/event/food-truck-vetranos-wood-fired-pizza-96/
CATEGORIES:food,wine
ATTACH;FMTTYPE=image/jpeg:https://www.gooseneckvineyards.com/wp-content/uploads/2025/05/Pizza.jpg
END:VEVENT
BEGIN:VEVENT
DTSTART;TZID=America/New_York:20260531T120000
DTEND;TZID=America/New_York:20260531T200000
DTSTAMP:20260423T101822
CREATED:20260320T182851Z
LAST-MODIFIED:20260423T141339Z
UID:10001461-1780228800-1780257600@www.gooseneckvineyards.com
SUMMARY:Food Truck: Vetrano’s Wood Fired Pizza
DESCRIPTION:Vetrano’s Wood Fired Pizza  \nBeyond the New York-style crust known to South County\, Vetrano’s invites you to discover a wood-fired taste that transcends the ordinary. Handmade and crafted with locally sourced ingredients\, ignite your senses with an unforgettable experience! \n@vetranoswoodfired
URL:https://www.gooseneckvineyards.com/event/food-truck-vetranos-wood-fired-pizza-97/
CATEGORIES:food,wine
ATTACH;FMTTYPE=image/jpeg:https://www.gooseneckvineyards.com/wp-content/uploads/2025/05/Pizza.jpg
END:VEVENT
BEGIN:VEVENT
DTSTART;TZID=America/New_York:20260531T130000
DTEND;TZID=America/New_York:20260531T160000
DTSTAMP:20260423T101822
CREATED:20260302T004239Z
LAST-MODIFIED:20260423T141337Z
UID:10001392-1780232400-1780243200@www.gooseneckvineyards.com
SUMMARY:Music: Dave Alves
DESCRIPTION:A lifelong New England musician\, this artist brings a rich background shaped by classical training\, jazz ensembles\, original projects\, and years of regional performance. Experience spans acoustic lounge sets\, collaborative bands\, and rock‑influenced recordings available on major streaming platforms\, all tied together by thoughtful songwriting and polished musicianship.\nCurrently working on a solo acoustic album centered on intimate storytelling\, each appearance delivers a relaxed\, engaging atmosphere — an easy pairing for an afternoon or evening at the winery. 🍷🎶
URL:https://www.gooseneckvineyards.com/event/music-dave-alves-11/
CATEGORIES:music,wine
ATTACH;FMTTYPE=image/jpeg:https://www.gooseneckvineyards.com/wp-content/uploads/2025/04/Guitar-2.jpg
END:VEVENT
BEGIN:VEVENT
DTSTART;TZID=America/New_York:20260531T163000
DTEND;TZID=America/New_York:20260531T193000
DTSTAMP:20260423T101822
CREATED:20260302T004251Z
LAST-MODIFIED:20260423T141338Z
UID:10001393-1780245000-1780255800@www.gooseneckvineyards.com
SUMMARY:Music: Dan Greaves
DESCRIPTION:Local RI musician playing country\, pop\, rock\, classic covers!
URL:https://www.gooseneckvineyards.com/event/music-dan-greaves-14/
CATEGORIES:music,wine
ATTACH;FMTTYPE=image/jpeg:https://www.gooseneckvineyards.com/wp-content/uploads/2025/05/Guitar-4.jpg
END:VEVENT
END:VCALENDAR